BEGIN:VCALENDAR
VERSION:2.0
PRODID:spatie/icalendar-generator
DESCRIPTION:Veranstaltungen von RV Fröndenberg
X-WR-CALDESC:Veranstaltungen von RV Fröndenberg
REFRESH-INTERVAL;VALUE=DURATION:PT1440M
X-PUBLISHED-TTL:PT1440M
BEGIN:VTIMEZONE
TZID:Etc/GMT+0
BEGIN:STANDARD
DTSTART:20240901T000000Z
TZOFFSETFROM:+0000
TZOFFSETTO:+0000
END:STANDARD
END:VTIMEZONE
BEGIN:VTIMEZONE
TZID:UTC
BEGIN:STANDARD
DTSTART:20250725T093622Z
TZOFFSETFROM:+0000
TZOFFSETTO:+0000
END:STANDARD
END:VTIMEZONE
BEGIN:VEVENT
UID:113-105
DTSTAMP:20260421T093622Z
SUMMARY:Rhynern KM
LOCATION:Reitanlage Rhynern
ORGANIZER;CN=admin:MAILTO:ken.braeutigam@web.de
DTSTART;TZID=Etc/GMT+0;VALUE=DATE:20250529
DTEND;TZID=Etc/GMT+0;VALUE=DATE:20250602
X-ALT-DESC;FMTTYPE=TEXT/HTML:
CATEGORIES:Meisterschaft
URL;VALUE=URI:https://rv-froendenberg.de/mc-events/rhynern-km/
METHOD:PUBLISH
END:VEVENT
END:VCALENDAR