BEGIN:VCALENDAR
VERSION:2.0
PRODID:spatie/icalendar-generator
DESCRIPTION:Veranstaltungen von RV Fröndenberg
X-WR-CALDESC:Veranstaltungen von RV Fröndenberg
REFRESH-INTERVAL;VALUE=DURATION:PT1440M
X-PUBLISHED-TTL:PT1440M
BEGIN:VTIMEZONE
TZID:Etc/GMT+0
BEGIN:STANDARD
DTSTART:20251203T000000Z
TZOFFSETFROM:+0000
TZOFFSETTO:+0000
END:STANDARD
END:VTIMEZONE
BEGIN:VTIMEZONE
TZID:UTC
BEGIN:STANDARD
DTSTART:20250729T104237Z
TZOFFSETFROM:+0000
TZOFFSETTO:+0000
END:STANDARD
END:VTIMEZONE
BEGIN:VEVENT
UID:179-160
DTSTAMP:20260425T104237Z
SUMMARY:Pferdefreunde Fröndenberg
LOCATION:Pferdefreunde Fröndenberg e.V. Ostbürener Str. 183  Fröndenberg
   58730
ORGANIZER;CN=idee-medien:MAILTO:a.gerbe@idee-medien.com
DTSTART;TZID=Etc/GMT+0;VALUE=DATE:20260830
DTEND;TZID=Etc/GMT+0;VALUE=DATE:20260831
X-ALT-DESC;FMTTYPE=TEXT/HTML:25.-30.08. Al Shira'aa Bundeschampionate
CATEGORIES:Meisterschaft
URL;VALUE=URI:https://rv-froendenberg.de/mc-events/pferdefreunde-froendenbe
 rg/
METHOD:PUBLISH
END:VEVENT
END:VCALENDAR