BEGIN:VCALENDAR
VERSION:2.0
PRODID:spatie/icalendar-generator
DESCRIPTION:Veranstaltungen von RV Fröndenberg
X-WR-CALDESC:Veranstaltungen von RV Fröndenberg
REFRESH-INTERVAL;VALUE=DURATION:PT1440M
X-PUBLISHED-TTL:PT1440M
BEGIN:VTIMEZONE
TZID:Etc/GMT+0
BEGIN:STANDARD
DTSTART:20240528T000000Z
TZOFFSETFROM:+0000
TZOFFSETTO:+0000
END:STANDARD
END:VTIMEZONE
BEGIN:VTIMEZONE
TZID:UTC
BEGIN:STANDARD
DTSTART:20250725T151945Z
TZOFFSETFROM:+0000
TZOFFSETTO:+0000
END:STANDARD
END:VTIMEZONE
BEGIN:VEVENT
UID:103-95
DTSTAMP:20260421T151945Z
SUMMARY:LE Massener Heide
LOCATION:Reitanlage Massener Heide
ORGANIZER;CN=admin:MAILTO:ken.braeutigam@web.de
DTSTART;TZID=Etc/GMT+0;VALUE=DATE:20250222
DTEND;TZID=Etc/GMT+0;VALUE=DATE:20250224
X-ALT-DESC;FMTTYPE=TEXT/HTML:
CATEGORIES:Turnier
URL;VALUE=URI:https://rv-froendenberg.de/mc-events/le-massener-heide-12/
METHOD:PUBLISH
END:VEVENT
END:VCALENDAR