BEGIN:VCALENDAR
VERSION:2.0
PRODID:spatie/icalendar-generator
DESCRIPTION:Veranstaltungen von RV Fröndenberg
X-WR-CALDESC:Veranstaltungen von RV Fröndenberg
REFRESH-INTERVAL;VALUE=DURATION:PT1440M
X-PUBLISHED-TTL:PT1440M
BEGIN:VTIMEZONE
TZID:Etc/GMT+0
BEGIN:STANDARD
DTSTART:20240916T000000Z
TZOFFSETFROM:+0000
TZOFFSETTO:+0000
END:STANDARD
END:VTIMEZONE
BEGIN:VTIMEZONE
TZID:UTC
BEGIN:STANDARD
DTSTART:20250724T070252Z
TZOFFSETFROM:+0000
TZOFFSETTO:+0000
END:STANDARD
END:VTIMEZONE
BEGIN:VEVENT
UID:115-107
DTSTAMP:20260420T070252Z
SUMMARY:Fröndenberg EKM
LOCATION:Reitanlage des RV- Fröndenberg Hubert-Biernat-Straße 11  Frönde
 nberg  58730
ORGANIZER;CN=admin:MAILTO:ken.braeutigam@web.de
DTSTART;TZID=Etc/GMT+0;VALUE=DATE:20250613
DTEND;TZID=Etc/GMT+0;VALUE=DATE:20250616
X-ALT-DESC;FMTTYPE=TEXT/HTML:
CATEGORIES:Turnier,  Meisterschaft
URL;VALUE=URI:https://rv-froendenberg.de/mc-events/froendenberg-ekm/
METHOD:PUBLISH
END:VEVENT
END:VCALENDAR