BEGIN:VCALENDAR
VERSION:2.0
PRODID:spatie/icalendar-generator
DESCRIPTION:Veranstaltungen von RV Fröndenberg
X-WR-CALDESC:Veranstaltungen von RV Fröndenberg
REFRESH-INTERVAL;VALUE=DURATION:PT1440M
X-PUBLISHED-TTL:PT1440M
BEGIN:VTIMEZONE
TZID:Etc/GMT+0
BEGIN:STANDARD
DTSTART:20250114T000000Z
TZOFFSETFROM:+0000
TZOFFSETTO:+0000
END:STANDARD
END:VTIMEZONE
BEGIN:VTIMEZONE
TZID:UTC
BEGIN:STANDARD
DTSTART:20250729T105534Z
TZOFFSETFROM:+0000
TZOFFSETTO:+0000
END:STANDARD
END:VTIMEZONE
BEGIN:VEVENT
UID:134-126
DTSTAMP:20260425T105534Z
SUMMARY:Hamm-Heessen
LOCATION:Reitanlage Hamm-Heessen
ORGANIZER;CN=admin:MAILTO:ken.braeutigam@web.de
DTSTART;TZID=Etc/GMT+0;VALUE=DATE:20251011
DTEND;TZID=Etc/GMT+0;VALUE=DATE:20251013
X-ALT-DESC;FMTTYPE=TEXT/HTML:
CATEGORIES:Turnier
URL;VALUE=URI:https://rv-froendenberg.de/mc-events/hamm-heessen-3/
METHOD:PUBLISH
END:VEVENT
END:VCALENDAR