BEGIN:VCALENDAR
VERSION:2.0
PRODID:spatie/icalendar-generator
DESCRIPTION:Veranstaltungen von RV Fröndenberg
X-WR-CALDESC:Veranstaltungen von RV Fröndenberg
REFRESH-INTERVAL;VALUE=DURATION:PT1440M
X-PUBLISHED-TTL:PT1440M
BEGIN:VTIMEZONE
TZID:Etc/GMT+0
BEGIN:STANDARD
DTSTART:20250803T000000Z
TZOFFSETFROM:+0000
TZOFFSETTO:+0000
END:STANDARD
END:VTIMEZONE
BEGIN:VTIMEZONE
TZID:UTC
BEGIN:STANDARD
DTSTART:20250729T042653Z
TZOFFSETFROM:+0000
TZOFFSETTO:+0000
END:STANDARD
END:VTIMEZONE
BEGIN:VEVENT
UID:157-143
DTSTAMP:20260425T042653Z
SUMMARY:Kamen
LOCATION:Reitanlage Kamen
ORGANIZER;CN=idee-medien:MAILTO:a.gerbe@idee-medien.com
DTSTART;TZID=Etc/GMT+0;VALUE=DATE:20260430
DTEND;TZID=Etc/GMT+0;VALUE=DATE:20260504
X-ALT-DESC;FMTTYPE=TEXT/HTML:
CATEGORIES:Turnier
URL;VALUE=URI:https://rv-froendenberg.de/mc-events/kamen-7/
METHOD:PUBLISH
END:VEVENT
END:VCALENDAR