BEGIN:VCALENDAR
VERSION:2.0
PRODID:spatie/icalendar-generator
DESCRIPTION:Veranstaltungen von RV Fröndenberg
X-WR-CALDESC:Veranstaltungen von RV Fröndenberg
REFRESH-INTERVAL;VALUE=DURATION:PT1440M
X-PUBLISHED-TTL:PT1440M
BEGIN:VTIMEZONE
TZID:Etc/GMT+0
BEGIN:STANDARD
DTSTART:20260623T000000Z
TZOFFSETFROM:+0000
TZOFFSETTO:+0000
END:STANDARD
END:VTIMEZONE
BEGIN:VTIMEZONE
TZID:UTC
BEGIN:STANDARD
DTSTART:20250729T104211Z
TZOFFSETFROM:+0000
TZOFFSETTO:+0000
END:STANDARD
END:VTIMEZONE
BEGIN:VEVENT
UID:188-170
DTSTAMP:20260425T104211Z
SUMMARY:Schwerte - Gut Kückshausen
LOCATION:Schwerte (Gut Kückshausen) Gut Kückshausen 1   Schwerte  58239
ORGANIZER;CN=idee-medien:MAILTO:a.gerbe@idee-medien.com
DTSTART;TZID=Etc/GMT+0:20270320T000000
DTEND;TZID=Etc/GMT+0:20270321T010000
X-ALT-DESC;FMTTYPE=TEXT/HTML:
CATEGORIES:Turnier
URL;VALUE=URI:https://rv-froendenberg.de/mc-events/schwerte-gut-kueckshause
 n-2/
METHOD:PUBLISH
END:VEVENT
END:VCALENDAR