BEGIN:VCALENDAR
VERSION:2.0
PRODID:spatie/icalendar-generator
DESCRIPTION:Veranstaltungen von RV Fröndenberg
X-WR-CALDESC:Veranstaltungen von RV Fröndenberg
REFRESH-INTERVAL;VALUE=DURATION:PT1440M
X-PUBLISHED-TTL:PT1440M
BEGIN:VTIMEZONE
TZID:Etc/GMT+0
BEGIN:STANDARD
DTSTART:20231022T000000Z
TZOFFSETFROM:+0000
TZOFFSETTO:+0000
END:STANDARD
END:VTIMEZONE
BEGIN:VTIMEZONE
TZID:UTC
BEGIN:STANDARD
DTSTART:20250725T215129Z
TZOFFSETFROM:+0000
TZOFFSETTO:+0000
END:STANDARD
END:VTIMEZONE
BEGIN:VEVENT
UID:87-79
DTSTAMP:20260421T215129Z
SUMMARY:Rhynern VS int. KM VT
LOCATION:Reitanlage des RV- Fröndenberg Hubert-Biernat-Straße 11  Frönde
 nberg  58730
ORGANIZER;CN=idee-medien:MAILTO:a.gerbe@idee-medien.com
DTSTART;TZID=Etc/GMT+0;VALUE=DATE:20240718
DTEND;TZID=Etc/GMT+0;VALUE=DATE:20240722
X-ALT-DESC;FMTTYPE=TEXT/HTML:
CATEGORIES:Meisterschaft
URL;VALUE=URI:https://rv-froendenberg.de/mc-events/rhynern-vs-int-km-vt/
METHOD:PUBLISH
END:VEVENT
END:VCALENDAR