BEGIN:VCALENDAR
VERSION:2.0
PRODID:spatie/icalendar-generator
DESCRIPTION:Veranstaltungen von RV Fröndenberg
X-WR-CALDESC:Veranstaltungen von RV Fröndenberg
REFRESH-INTERVAL;VALUE=DURATION:PT1440M
X-PUBLISHED-TTL:PT1440M
BEGIN:VTIMEZONE
TZID:Etc/GMT+0
BEGIN:STANDARD
DTSTART:20231205T000000Z
TZOFFSETFROM:+0000
TZOFFSETTO:+0000
END:STANDARD
END:VTIMEZONE
BEGIN:VTIMEZONE
TZID:UTC
BEGIN:STANDARD
DTSTART:20250725T185016Z
TZOFFSETFROM:+0000
TZOFFSETTO:+0000
END:STANDARD
END:VTIMEZONE
BEGIN:VEVENT
UID:92-84
DTSTAMP:20260421T185016Z
SUMMARY:RT Pelkum/RT Bürenbruch
LOCATION:Reitanlage des RV- Fröndenberg Hubert-Biernat-Straße 11  Frönde
 nberg  58730
ORGANIZER;CN=idee-medien:MAILTO:a.gerbe@idee-medien.com
DTSTART;TZID=Etc/GMT+0;VALUE=DATE:20240831
DTEND;TZID=Etc/GMT+0;VALUE=DATE:20240902
X-ALT-DESC;FMTTYPE=TEXT/HTML:
CATEGORIES:Turnier
URL;VALUE=URI:https://rv-froendenberg.de/mc-events/rt-pelkum-rt-buerenbruch
 /
METHOD:PUBLISH
END:VEVENT
END:VCALENDAR